BEGIN:VCALENDAR
VERSION:2.0
PRODID:-//agippsa - ECPv6.15.20//NONSGML v1.0//EN
CALSCALE:GREGORIAN
METHOD:PUBLISH
X-ORIGINAL-URL:https://www.agippsa.it
X-WR-CALDESC:Eventi per agippsa
REFRESH-INTERVAL;VALUE=DURATION:PT1H
X-Robots-Tag:noindex
X-PUBLISHED-TTL:PT1H
BEGIN:VTIMEZONE
TZID:Europe/Rome
BEGIN:DAYLIGHT
TZOFFSETFROM:+0100
TZOFFSETTO:+0200
TZNAME:CEST
DTSTART:20220327T010000
END:DAYLIGHT
BEGIN:STANDARD
TZOFFSETFROM:+0200
TZOFFSETTO:+0100
TZNAME:CET
DTSTART:20221030T010000
END:STANDARD
BEGIN:DAYLIGHT
TZOFFSETFROM:+0100
TZOFFSETTO:+0200
TZNAME:CEST
DTSTART:20230326T010000
END:DAYLIGHT
BEGIN:STANDARD
TZOFFSETFROM:+0200
TZOFFSETTO:+0100
TZNAME:CET
DTSTART:20231029T010000
END:STANDARD
BEGIN:DAYLIGHT
TZOFFSETFROM:+0100
TZOFFSETTO:+0200
TZNAME:CEST
DTSTART:20240331T010000
END:DAYLIGHT
BEGIN:STANDARD
TZOFFSETFROM:+0200
TZOFFSETTO:+0100
TZNAME:CET
DTSTART:20241027T010000
END:STANDARD
END:VTIMEZONE
BEGIN:VEVENT
DTSTART;TZID=Europe/Rome:20230504T230000
DTEND;TZID=Europe/Rome:20230504T230000
DTSTAMP:20260426T053911
CREATED:20230417T140125Z
LAST-MODIFIED:20230417T140125Z
UID:17661-1683241200-1683241200@www.agippsa.it
SUMMARY:FANTASIE DEI GENITORI E PSICOPATOLOGIA DEI FIGLI
DESCRIPTION:
URL:https://www.agippsa.it/evento/fantasie-dei-genitori-e-psicopatologia-dei-figli/
LOCATION:Piattaforma Zoom
CATEGORIES:Convegni e seminari,Eventi
ATTACH;FMTTYPE=image/jpeg:https://www.agippsa.it/wp-content/uploads/2023/04/SERATE-SCIENTIFICHE-SIPSIA_page-0001.jpg
END:VEVENT
BEGIN:VEVENT
DTSTART;VALUE=DATE:20230506
DTEND;VALUE=DATE:20230508
DTSTAMP:20260426T053911
CREATED:20230316T121626Z
LAST-MODIFIED:20230316T121626Z
UID:17585-1683338400-1683424799@www.agippsa.it
SUMMARY:2ª CONFERENZA MAGISTRALE IN MEMORIA DI ANDREAS GIANNAKOULAS: Primo annuncio\, Winnicott contemporaneo
DESCRIPTION:possibilità di partecipazione in presenza e online su piattaforma zoom \nScarica la locandina in PDF \nScarica la scheda iscrizione PDF
URL:https://www.agippsa.it/evento/2a-conferenza-magistrale-in-memoria-di-andreas-giannakoulas-primo-annuncio-winnicott-contemporaneo/
LOCATION: Auditorium Donat Cattin\, Via Rieti\, 11/13\, Roma\, 00100\, Italia
CATEGORIES:Convegni e seminari,Eventi
ATTACH;FMTTYPE=image/jpeg:https://www.agippsa.it/wp-content/uploads/2023/03/Primo-Annuncio-Winnicott-Contemporaneo_page-0001.jpg
ORGANIZER;CN="ISTITUTO WINNICOTT-SIPSIA":MAILTO:istwinnicott.amministrazione@gmail.com
END:VEVENT
BEGIN:VEVENT
DTSTART;TZID=Europe/Rome:20230511T193000
DTEND;TZID=Europe/Rome:20230511T193000
DTSTAMP:20260426T053911
CREATED:20230504T085110Z
LAST-MODIFIED:20230504T085110Z
UID:17681-1683833400-1683833400@www.agippsa.it
SUMMARY:VOCI DELL'ADOLESCENZA. GLI STUDENTI NAVIGANO. Adolescenti uso dei social e intervento clinico
DESCRIPTION:
URL:https://www.agippsa.it/evento/voci-delladolescenza-gli-studenti-navigano-adolescenti-uso-dei-social-e-intervento-clinico/
LOCATION:Biblioteca laurentina Centro culturale Elsa Morante\, Piazzale Elsa Morante\, Roma
CATEGORIES:Convegni e seminari,Eventi
ATTACH;FMTTYPE=image/jpeg:https://www.agippsa.it/wp-content/uploads/2023/05/evento-apeiron.jpg
ORGANIZER;CN="APERION":MAILTO:centroapeiron@tiscali.it
END:VEVENT
BEGIN:VEVENT
DTSTART;TZID=Europe/Rome:20230513T103000
DTEND;TZID=Europe/Rome:20230513T143000
DTSTAMP:20260426T053911
CREATED:20230329T095028Z
LAST-MODIFIED:20230329T095028Z
UID:17622-1683973800-1683988200@www.agippsa.it
SUMMARY:L'INCONTRO CON L'ADOLESCENTE E I SUOI GENITORI. Interrogativi e metodi di intervento psicoterapico a confronto
DESCRIPTION:Scarica la Brochure in PDF
URL:https://www.agippsa.it/evento/lincontro-con-ladolescente-e-i-suoi-genitori-interrogativi-e-metodi-di-intervento-psicoterapico-a-confronto/
LOCATION:Ex Chiesa San Mattia ai Crociferi\, Via Torremuzza 28\, Palermo\, Palermo\, 90145\, Italia
CATEGORIES:Convegni e seminari,Eventi
ATTACH;FMTTYPE=image/jpeg:https://www.agippsa.it/wp-content/uploads/2023/03/frontespizio_pALERMO.jpg
ORGANIZER;CN="ASSIA":MAILTO:info@assiasicilia.org
END:VEVENT
BEGIN:VEVENT
DTSTART;TZID=Europe/Rome:20230513T110000
DTEND;TZID=Europe/Rome:20230513T153000
DTSTAMP:20260426T053911
CREATED:20230224T153855Z
LAST-MODIFIED:20230224T153855Z
UID:17507-1683975600-1683991800@www.agippsa.it
SUMMARY:CICLO DI SEMINARI: Il futuro della memoria
DESCRIPTION:Scarica la Locandina in pdf
URL:https://www.agippsa.it/evento/ciclo-di-seminari-il-futuro-della-memoria-3/
LOCATION:Online
CATEGORIES:Convegni e seminari,Eventi
ATTACH;FMTTYPE=image/jpeg:https://www.agippsa.it/wp-content/uploads/2023/02/Locandina-ciclo-2023_page-0001-e1677073972815.jpg
ORGANIZER;CN="AFPP":MAILTO:afpp.segreteria@gmail.com
END:VEVENT
BEGIN:VEVENT
DTSTART;TZID=Europe/Rome:20230518T230000
DTEND;TZID=Europe/Rome:20230518T230000
DTSTAMP:20260426T053911
CREATED:20230517T100614Z
LAST-MODIFIED:20230517T100614Z
UID:17702-1684450800-1684450800@www.agippsa.it
SUMMARY:ESPERIENZA DEL CORPO E MEMORIA DEL CORPO. Uno sguardo attraverso le arti
DESCRIPTION:
URL:https://www.agippsa.it/evento/esperienza-del-corpo-e-memoria-del-corpo-uno-sguardo-attraverso-le-arti/
LOCATION:RM
CATEGORIES:Convegni e seminari,Eventi
ATTACH;FMTTYPE=image/jpeg:https://www.agippsa.it/wp-content/uploads/2023/05/EVENTI-SULLARTE_page-0001.jpg
END:VEVENT
BEGIN:VEVENT
DTSTART;TZID=Europe/Rome:20230520T110000
DTEND;TZID=Europe/Rome:20230520T160000
DTSTAMP:20260426T053911
CREATED:20230508T123503Z
LAST-MODIFIED:20230508T123503Z
UID:17685-1684580400-1684598400@www.agippsa.it
SUMMARY:NELLA STANZA CON L'ADOLESCENTE. Compagno Adulto e Laboratori
DESCRIPTION:scarica la locandina in PDF
URL:https://www.agippsa.it/evento/nella-stanza-con-ladolescente-compagno-adulto-e-laboratori/
LOCATION:via Lucca 19\, Via Lucca 19\, Roma
CATEGORIES:Convegni e seminari,Eventi
ATTACH;FMTTYPE=image/jpeg:https://www.agippsa.it/wp-content/uploads/2023/05/LOCANDINA-SEMINARI-C.A.2023_page-0001.jpg
ORGANIZER;CN="COOPERATIVA RIFORNIMENTO IN VOLO":MAILTO:segreteria@rifornimentoinvolo.it
END:VEVENT
BEGIN:VEVENT
DTSTART;TZID=Europe/Rome:20230520T110000
DTEND;TZID=Europe/Rome:20230520T190000
DTSTAMP:20260426T053911
CREATED:20230412T151826Z
LAST-MODIFIED:20230424T060710Z
UID:17650-1684580400-1684609200@www.agippsa.it
SUMMARY:FUORI GIOCO. Lo psicodramma analitico con adolescenti e famiglie
DESCRIPTION:
URL:https://www.agippsa.it/evento/fuori-gioco-lo-psicodramma-analitico-con-adolescenti-e-famiglie/
LOCATION:Via Monterone 2\, Via Monterone 2\, Roma\, Seleziona uno Stato:\, 00186\, Italia
CATEGORIES:Convegni e seminari,Eventi
ATTACH;FMTTYPE=image/jpeg:https://www.agippsa.it/wp-content/uploads/2023/04/Apeiron_CorsoFormazioneECM_orizzontale_1200x6721.jpg
ORGANIZER;CN="APERION":MAILTO:centroapeiron@tiscali.it
END:VEVENT
BEGIN:VEVENT
DTSTART;TZID=Europe/Rome:20230527T110000
DTEND;TZID=Europe/Rome:20230527T141500
DTSTAMP:20260426T053911
CREATED:20230508T123655Z
LAST-MODIFIED:20230508T123655Z
UID:17690-1685185200-1685196900@www.agippsa.it
SUMMARY:NELLA STANZA CON L'ADOLESCENTE. Compagno Adulto e Laboratori
DESCRIPTION:scarica la locandina in PDF
URL:https://www.agippsa.it/evento/nella-stanza-con-ladolescente-compagno-adulto-e-laboratori-2/
LOCATION:via Lucca 19\, Via Lucca 19\, Roma
CATEGORIES:Convegni e seminari,Eventi
ATTACH;FMTTYPE=image/jpeg:https://www.agippsa.it/wp-content/uploads/2023/05/LOCANDINA-SEMINARI-C.A.2023_page-0001.jpg
ORGANIZER;CN="COOPERATIVA RIFORNIMENTO IN VOLO":MAILTO:segreteria@rifornimentoinvolo.it
END:VEVENT
END:VCALENDAR