BEGIN:VCALENDAR
VERSION:2.0
PRODID:-//agippsa - ECPv6.15.20//NONSGML v1.0//EN
CALSCALE:GREGORIAN
METHOD:PUBLISH
X-WR-CALNAME:agippsa
X-ORIGINAL-URL:https://www.agippsa.it
X-WR-CALDESC:Eventi per agippsa
REFRESH-INTERVAL;VALUE=DURATION:PT1H
X-Robots-Tag:noindex
X-PUBLISHED-TTL:PT1H
BEGIN:VTIMEZONE
TZID:Europe/Rome
BEGIN:DAYLIGHT
TZOFFSETFROM:+0100
TZOFFSETTO:+0200
TZNAME:CEST
DTSTART:20220327T010000
END:DAYLIGHT
BEGIN:STANDARD
TZOFFSETFROM:+0200
TZOFFSETTO:+0100
TZNAME:CET
DTSTART:20221030T010000
END:STANDARD
BEGIN:DAYLIGHT
TZOFFSETFROM:+0100
TZOFFSETTO:+0200
TZNAME:CEST
DTSTART:20230326T010000
END:DAYLIGHT
BEGIN:STANDARD
TZOFFSETFROM:+0200
TZOFFSETTO:+0100
TZNAME:CET
DTSTART:20231029T010000
END:STANDARD
BEGIN:DAYLIGHT
TZOFFSETFROM:+0100
TZOFFSETTO:+0200
TZNAME:CEST
DTSTART:20240331T010000
END:DAYLIGHT
BEGIN:STANDARD
TZOFFSETFROM:+0200
TZOFFSETTO:+0100
TZNAME:CET
DTSTART:20241027T010000
END:STANDARD
END:VTIMEZONE
BEGIN:VEVENT
DTSTART;TZID=Europe/Rome:20231105T100000
DTEND;TZID=Europe/Rome:20231105T180000
DTSTAMP:20260425T201740
CREATED:20230412T152935Z
LAST-MODIFIED:20230424T060434Z
UID:17659-1699178400-1699207200@www.agippsa.it
SUMMARY:FUORI GIOCO. Lo psicodramma analitico con adolescenti e famiglie
DESCRIPTION:
URL:https://www.agippsa.it/evento/fuori-gioco-lo-psicodramma-analitico-con-adolescenti-e-famiglie-5/
LOCATION:Via Monterone 2\, Via Monterone 2\, Roma\, Seleziona uno Stato:\, 00186\, Italia
CATEGORIES:Convegni e seminari,Eventi
ATTACH;FMTTYPE=image/jpeg:https://www.agippsa.it/wp-content/uploads/2023/04/Apeiron_CorsoFormazioneECM_orizzontale_1200x6721.jpg
ORGANIZER;CN="APERION":MAILTO:centroapeiron@tiscali.it
END:VEVENT
BEGIN:VEVENT
DTSTART;TZID=Europe/Rome:20231109T220000
DTEND;TZID=Europe/Rome:20231109T220000
DTSTAMP:20260425T201740
CREATED:20230417T140602Z
LAST-MODIFIED:20230417T140602Z
UID:17668-1699567200-1699567200@www.agippsa.it
SUMMARY:FANTASIE DEI GENITORI E PSICOPATOLOGIA DEI FIGLI
DESCRIPTION:
URL:https://www.agippsa.it/evento/fantasie-dei-genitori-e-psicopatologia-dei-figli-4/
LOCATION:Piattaforma Zoom
CATEGORIES:Convegni e seminari,Eventi
ATTACH;FMTTYPE=image/jpeg:https://www.agippsa.it/wp-content/uploads/2023/04/SERATE-SCIENTIFICHE-SIPSIA_page-0001.jpg
END:VEVENT
BEGIN:VEVENT
DTSTART;TZID=Europe/Rome:20231111T093000
DTEND;TZID=Europe/Rome:20231111T183000
DTSTAMP:20260425T201740
CREATED:20231016T072753Z
LAST-MODIFIED:20231016T072753Z
UID:17817-1699695000-1699727400@www.agippsa.it
SUMMARY:Giornata Scientifica Quarantennale AFPP: La Psicoterapia Psicoanalitica oggi
DESCRIPTION:Scarica la Locandina in PDF \nIngresso Gratuito con attestato di partecipazione e senza ECM \nIngresso con ECM (6 crediti): soci AFPP gratuito\, esterni 30 euro \nper iscrizioni inviare mail a: assfiopp@gmail.com
URL:https://www.agippsa.it/evento/giornata-scientifica-quarantennale-afpp-la-psicoterapia-psicoanalitica-oggi/
LOCATION:associazione Lyceum\, Lungarno Guicciardini 17\, Firenze
CATEGORIES:Convegni e seminari,Eventi
ATTACH;FMTTYPE=image/jpeg:https://www.agippsa.it/wp-content/uploads/2023/10/edited_quarantennale_afpp-3_page-0001.jpg
ORGANIZER;CN="AFPP":MAILTO:afpp.segreteria@gmail.com
END:VEVENT
BEGIN:VEVENT
DTSTART;TZID=Europe/Rome:20231111T100000
DTEND;TZID=Europe/Rome:20231111T170000
DTSTAMP:20260425T201740
CREATED:20230925T083007Z
LAST-MODIFIED:20230925T083007Z
UID:17805-1699696800-1699722000@www.agippsa.it
SUMMARY:Lo Psicologo e la Scuola. L'incontro con "quel soggetto" tra relazioni\, complessità e aspetti deontologici
DESCRIPTION:Scarica la Locandina in PDF \nL’Area Adolescenza del Centro Sipre di Parma propone una giornata di approfondimento sul lavoro dello psicologo a scuola\, il cui obiettivo è favorire una riflessione sull’intervento dello psicologo\, a partire dalle esperienze specifiche dei relatori coinvolti. \nL’evento si terrà Online sulla Piattaforma zoom
URL:https://www.agippsa.it/evento/lo-psicologo-e-la-scuola-lincontro-con-quel-soggetto-tra-relazioni-complessita-e-aspetti-deontologici/
LOCATION:Piattaforma Zoom
CATEGORIES:Convegni e seminari,Eventi
ATTACH;FMTTYPE=image/jpeg:https://www.agippsa.it/wp-content/uploads/2023/09/Post-def.jpg
ORGANIZER;CN="SIPRe Parma":MAILTO:centrodiparma@sipreonline.it
END:VEVENT
BEGIN:VEVENT
DTSTART;TZID=Europe/Rome:20231111T100000
DTEND;TZID=Europe/Rome:20231111T193000
DTSTAMP:20260425T201740
CREATED:20230904T134207Z
LAST-MODIFIED:20230904T134207Z
UID:17779-1699696800-1699731000@www.agippsa.it
SUMMARY:convegno Internazionale Vulnerabilità e Fratture
DESCRIPTION:scarica la Locandina \nL’ infanzia era morta o perduta e con essa l’anima capace di gioie semplici  \ne lui navigava nella vita come un guscio sterile della luna. \n (James Joyce\, 1916) \n  \nLa letteratura psicoanalitica sull’adolescenza\, soprattutto in anni recenti\, ha offerto importanti riflessioni supportate da una intensa attività clinica. Nonostante ciò l’adolescenza rimane\, ancora oggi\, un territorio non ben definito: non soltanto non è possibile collocarla in una puntuale fascia di età ma anche i percorsi identitari che le sono propri spesso restano difficili da descrivere. È un momento della vita che rappresenta un importante crocevia in cui\, in un clima interno conflittuale spesso violento e difficile da fronteggiare\, l’adolescente è alle prese con distacchi e nuovi incontri\, perdite e scoperte mentre si confronta con l’enigma dell’esistere alla ricerca di senso e pensabilità. In tale delicato momento della vita\, nel processo in cui la pubertà apre la strada all’adolescenza\, possono emergere gli effetti di esperienze traumatiche precoci con un impatto sull’equilibrio delle strutture psichiche. \nCosa potrà presentarsi? “break-up\, break-down o break-through?” \nIl Convegno propone una riflessione e un dibattito su tali esperienze cliniche nelle loro differenti manifestazioni e su come possano essere affrontate nel lavoro della cura psicoanalitica. \nOnline e in Presenza presso presso l’Angelicum Centro Congressi di Roma\, Largo Angelicum 1\, Roma \nper info sul convegno e iscrizioni cliccare sul seguente link: \nhttps://www.spazioiris.it/project/eventi-partner/congresso-internazionale-aippi-vulnerabilita-e-fratture/ \nscarica il Depliant
URL:https://www.agippsa.it/evento/convegno-internazionale-vulnerabilita-e-fratture/
LOCATION:Angelicum Centro Congressi\, Largo Angelicum\, 1\, Roma
CATEGORIES:Convegni e seminari,Eventi
ATTACH;FMTTYPE=image/jpeg:https://www.agippsa.it/wp-content/uploads/2023/09/Locandina-Convegno-AIPPI-Vulnerabilita-e-fratture-11e12.11.2023_page-0001.jpg
ORGANIZER;CN="AIPPI":MAILTO:info@aippiweb.it
END:VEVENT
BEGIN:VEVENT
DTSTART;TZID=Europe/Rome:20231112T100000
DTEND;TZID=Europe/Rome:20231112T143000
DTSTAMP:20260425T201740
CREATED:20230904T134625Z
LAST-MODIFIED:20230904T134625Z
UID:17784-1699783200-1699799400@www.agippsa.it
SUMMARY:convegno Internazionale Vulnerabilità e Fratture
DESCRIPTION:scarica la Locandina \nL’ infanzia era morta o perduta e con essa l’anima capace di gioie semplici  \ne lui navigava nella vita come un guscio sterile della luna. \n (James Joyce\, 1916) \n  \nLa letteratura psicoanalitica sull’adolescenza\, soprattutto in anni recenti\, ha offerto importanti riflessioni supportate da una intensa attività clinica. Nonostante ciò l’adolescenza rimane\, ancora oggi\, un territorio non ben definito: non soltanto non è possibile collocarla in una puntuale fascia di età ma anche i percorsi identitari che le sono propri spesso restano difficili da descrivere. È un momento della vita che rappresenta un importante crocevia in cui\, in un clima interno conflittuale spesso violento e difficile da fronteggiare\, l’adolescente è alle prese con distacchi e nuovi incontri\, perdite e scoperte mentre si confronta con l’enigma dell’esistere alla ricerca di senso e pensabilità. In tale delicato momento della vita\, nel processo in cui la pubertà apre la strada all’adolescenza\, possono emergere gli effetti di esperienze traumatiche precoci con un impatto sull’equilibrio delle strutture psichiche. \nCosa potrà presentarsi? “break-up\, break-down o break-through?” \nIl Convegno propone una riflessione e un dibattito su tali esperienze cliniche nelle loro differenti manifestazioni e su come possano essere affrontate nel lavoro della cura psicoanalitica. \nL’evento si svolgerà sia online sia presso l’Angelicum Centro Congressi di Roma\, Largo Angelicum 1\, Roma \nper info sul convegno e iscrizioni cliccare sul seguente link: \nhttps://www.spazioiris.it/project/eventi-partner/congresso-internazionale-aippi-vulnerabilita-e-fratture/ \nscarica il Depliant
URL:https://www.agippsa.it/evento/convegno-internazionale-vulnerabilita-e-fratture-2/
LOCATION:Angelicum Centro Congressi\, Largo Angelicum\, 1\, Roma
CATEGORIES:Convegni e seminari,Eventi
ATTACH;FMTTYPE=image/jpeg:https://www.agippsa.it/wp-content/uploads/2023/09/Locandina-Convegno-AIPPI-Vulnerabilita-e-fratture-11e12.11.2023_page-0001.jpg
ORGANIZER;CN="AIPPI":MAILTO:info@aippiweb.it
END:VEVENT
BEGIN:VEVENT
DTSTART;TZID=Europe/Rome:20231115T220000
DTEND;TZID=Europe/Rome:20231116T003000
DTSTAMP:20260425T201740
CREATED:20230224T154443Z
LAST-MODIFIED:20230224T154443Z
UID:17520-1700085600-1700094600@www.agippsa.it
SUMMARY:CICLO DI SEMINARI: Il futuro della memoria
DESCRIPTION:Scarica la Locandina in pdf
URL:https://www.agippsa.it/evento/ciclo-di-seminari-il-futuro-della-memoria-6/
LOCATION:Online
CATEGORIES:Convegni e seminari,Eventi
ATTACH;FMTTYPE=image/jpeg:https://www.agippsa.it/wp-content/uploads/2023/02/Locandina-ciclo-2023_page-0001-e1677073972815.jpg
ORGANIZER;CN="AFPP":MAILTO:afpp.segreteria@gmail.com
END:VEVENT
BEGIN:VEVENT
DTSTART;TZID=Europe/Rome:20231118T104500
DTEND;TZID=Europe/Rome:20231118T183000
DTSTAMP:20260425T201740
CREATED:20230926T053133Z
LAST-MODIFIED:20231101T094735Z
UID:17809-1700304300-1700332200@www.agippsa.it
SUMMARY:SEMINARI INTERMEDI AGIPPSA. Manifesto Psicoanalitico dell'Adolescenza. Il diritto di crescere
DESCRIPTION:Agippsa presenta il Manifesto Psicoanalitico dell’Adolescenza nella giornata dedicata ai Seminari Intermedi Agippsa. \nPer iscriversi cliccare sul seguente link:\n \nhttps://forms.gle/frxyWxfRMXd3va3J6 \nN.B.: È obbligatorio per tutti i partecipanti\, sia interni che esterni ad AGIPPsA\, procedere con l’iscrizione. Per motivi di sicurezza potrà accedere a Palazzo Valentini solo chi è regolarmente registrato. I soci e gli specializzandi AGIPPsA dovranno anche scegliere il workshop. \nScarica la brochure in PDF \n 
URL:https://www.agippsa.it/evento/seminari-intermedi-agippsa-manifesto-psicoanalitico-delladolescenza-il-diritto-di-crescere/
LOCATION:Roma
CATEGORIES:Convegni e seminari,Eventi
ATTACH;FMTTYPE=image/jpeg:https://www.agippsa.it/wp-content/uploads/2023/11/brochure-AGIPPsA-18.11.2023_page-0001.jpg
END:VEVENT
BEGIN:VEVENT
DTSTART;TZID=Europe/Rome:20231130T220000
DTEND;TZID=Europe/Rome:20231130T220000
DTSTAMP:20260425T201740
CREATED:20230417T140715Z
LAST-MODIFIED:20230417T140715Z
UID:17670-1701381600-1701381600@www.agippsa.it
SUMMARY:FANTASIE DEI GENITORI E PSICOPATOLOGIA DEI FIGLI
DESCRIPTION:
URL:https://www.agippsa.it/evento/fantasie-dei-genitori-e-psicopatologia-dei-figli-5/
LOCATION:Piattaforma Zoom
CATEGORIES:Convegni e seminari,Eventi
ATTACH;FMTTYPE=image/jpeg:https://www.agippsa.it/wp-content/uploads/2023/04/SERATE-SCIENTIFICHE-SIPSIA_page-0001.jpg
END:VEVENT
END:VCALENDAR