BEGIN:VCALENDAR
VERSION:2.0
PRODID:-//agippsa - ECPv6.15.20//NONSGML v1.0//EN
CALSCALE:GREGORIAN
METHOD:PUBLISH
X-ORIGINAL-URL:https://www.agippsa.it
X-WR-CALDESC:Eventi per agippsa
REFRESH-INTERVAL;VALUE=DURATION:PT1H
X-Robots-Tag:noindex
X-PUBLISHED-TTL:PT1H
BEGIN:VTIMEZONE
TZID:Europe/Rome
BEGIN:DAYLIGHT
TZOFFSETFROM:+0100
TZOFFSETTO:+0200
TZNAME:CEST
DTSTART:20220327T010000
END:DAYLIGHT
BEGIN:STANDARD
TZOFFSETFROM:+0200
TZOFFSETTO:+0100
TZNAME:CET
DTSTART:20221030T010000
END:STANDARD
BEGIN:DAYLIGHT
TZOFFSETFROM:+0100
TZOFFSETTO:+0200
TZNAME:CEST
DTSTART:20230326T010000
END:DAYLIGHT
BEGIN:STANDARD
TZOFFSETFROM:+0200
TZOFFSETTO:+0100
TZNAME:CET
DTSTART:20231029T010000
END:STANDARD
BEGIN:DAYLIGHT
TZOFFSETFROM:+0100
TZOFFSETTO:+0200
TZNAME:CEST
DTSTART:20240331T010000
END:DAYLIGHT
BEGIN:STANDARD
TZOFFSETFROM:+0200
TZOFFSETTO:+0100
TZNAME:CET
DTSTART:20241027T010000
END:STANDARD
END:VTIMEZONE
BEGIN:VEVENT
DTSTART;TZID=Europe/Rome:20230513T103000
DTEND;TZID=Europe/Rome:20230513T143000
DTSTAMP:20260423T180332
CREATED:20230329T095028Z
LAST-MODIFIED:20230329T095028Z
UID:17622-1683973800-1683988200@www.agippsa.it
SUMMARY:L'INCONTRO CON L'ADOLESCENTE E I SUOI GENITORI. Interrogativi e metodi di intervento psicoterapico a confronto
DESCRIPTION:Scarica la Brochure in PDF
URL:https://www.agippsa.it/evento/lincontro-con-ladolescente-e-i-suoi-genitori-interrogativi-e-metodi-di-intervento-psicoterapico-a-confronto/
LOCATION:Ex Chiesa San Mattia ai Crociferi\, Via Torremuzza 28\, Palermo\, Palermo\, 90145\, Italia
CATEGORIES:Convegni e seminari,Eventi
ATTACH;FMTTYPE=image/jpeg:https://www.agippsa.it/wp-content/uploads/2023/03/frontespizio_pALERMO.jpg
ORGANIZER;CN="ASSIA":MAILTO:info@assiasicilia.org
END:VEVENT
END:VCALENDAR