BEGIN:VCALENDAR
VERSION:2.0
PRODID:-//agippsa - ECPv6.15.20//NONSGML v1.0//EN
CALSCALE:GREGORIAN
METHOD:PUBLISH
X-WR-CALNAME:agippsa
X-ORIGINAL-URL:https://www.agippsa.it
X-WR-CALDESC:Eventi per agippsa
REFRESH-INTERVAL;VALUE=DURATION:PT1H
X-Robots-Tag:noindex
X-PUBLISHED-TTL:PT1H
BEGIN:VTIMEZONE
TZID:Europe/Rome
BEGIN:DAYLIGHT
TZOFFSETFROM:+0100
TZOFFSETTO:+0200
TZNAME:CEST
DTSTART:20220327T010000
END:DAYLIGHT
BEGIN:STANDARD
TZOFFSETFROM:+0200
TZOFFSETTO:+0100
TZNAME:CET
DTSTART:20221030T010000
END:STANDARD
BEGIN:DAYLIGHT
TZOFFSETFROM:+0100
TZOFFSETTO:+0200
TZNAME:CEST
DTSTART:20230326T010000
END:DAYLIGHT
BEGIN:STANDARD
TZOFFSETFROM:+0200
TZOFFSETTO:+0100
TZNAME:CET
DTSTART:20231029T010000
END:STANDARD
BEGIN:DAYLIGHT
TZOFFSETFROM:+0100
TZOFFSETTO:+0200
TZNAME:CEST
DTSTART:20240331T010000
END:DAYLIGHT
BEGIN:STANDARD
TZOFFSETFROM:+0200
TZOFFSETTO:+0100
TZNAME:CET
DTSTART:20241027T010000
END:STANDARD
END:VTIMEZONE
BEGIN:VEVENT
DTSTART;TZID=Europe/Rome:20230616T110000
DTEND;TZID=Europe/Rome:20230616T153000
DTSTAMP:20260423T163141
CREATED:20230524T104959Z
LAST-MODIFIED:20230524T104959Z
UID:17720-1686913200-1686929400@www.agippsa.it
SUMMARY:ESISTE ANCORA EDIPO?
DESCRIPTION:Possibilità di partecipazione anche online attraverso piattaforma ZOOM \nE’ obbligatoria la prenotazione:\nPer info e iscrizioni entro il 12 Giugno 2023\nmail: istwinnicott.amministrazione@gmail.com – Tel: 06.4453715
URL:https://www.agippsa.it/evento/esiste-ancora-edipo/
LOCATION:Istituto Marymount\, Via Nomentana 355\, Roma\, 00162\, Italia
CATEGORIES:Convegni e seminari,Eventi
ATTACH;FMTTYPE=image/jpeg:https://www.agippsa.it/wp-content/uploads/2023/05/CONVEGNO_16_Giugno_23_page-0001.jpg
ORGANIZER;CN="SIPsIA-Istituo Winnicott":MAILTO:sipsiaroma@tin.it
END:VEVENT
BEGIN:VEVENT
DTSTART;TZID=Europe/Rome:20230617T110000
DTEND;TZID=Europe/Rome:20230617T153000
DTSTAMP:20260423T163141
CREATED:20230322T101022Z
LAST-MODIFIED:20230322T101022Z
UID:17614-1686999600-1687015800@www.agippsa.it
SUMMARY:CICLO DI SEMINARI. Sguardo sul femminile contemporaneo.
DESCRIPTION:Secondo Seminario: Il femminile nella prima infanzia \nScarica il programma in versione PDF \nCompila la SCHEDA iscrizione
URL:https://www.agippsa.it/evento/ciclo-di-seminari-sguardo-sul-femminile-contemporaneo-2/
LOCATION:AIPPI- Roma\, Via Alessandria 130\, Roma\, 00198\, Italia
CATEGORIES:Convegni e seminari,Eventi
ATTACH;FMTTYPE=image/jpeg:https://www.agippsa.it/wp-content/uploads/2023/03/Locandina-Sguardi-femminile-contemporaneo.jpg
ORGANIZER;CN="AIPPI":MAILTO:info@aippiweb.it
END:VEVENT
END:VCALENDAR