BEGIN:VCALENDAR
VERSION:2.0
PRODID:-//agippsa - ECPv6.15.20//NONSGML v1.0//EN
CALSCALE:GREGORIAN
METHOD:PUBLISH
X-WR-CALNAME:agippsa
X-ORIGINAL-URL:https://www.agippsa.it
X-WR-CALDESC:Eventi per agippsa
REFRESH-INTERVAL;VALUE=DURATION:PT1H
X-Robots-Tag:noindex
X-PUBLISHED-TTL:PT1H
BEGIN:VTIMEZONE
TZID:Europe/Rome
BEGIN:DAYLIGHT
TZOFFSETFROM:+0100
TZOFFSETTO:+0200
TZNAME:CEST
DTSTART:20220327T010000
END:DAYLIGHT
BEGIN:STANDARD
TZOFFSETFROM:+0200
TZOFFSETTO:+0100
TZNAME:CET
DTSTART:20221030T010000
END:STANDARD
BEGIN:DAYLIGHT
TZOFFSETFROM:+0100
TZOFFSETTO:+0200
TZNAME:CEST
DTSTART:20230326T010000
END:DAYLIGHT
BEGIN:STANDARD
TZOFFSETFROM:+0200
TZOFFSETTO:+0100
TZNAME:CET
DTSTART:20231029T010000
END:STANDARD
BEGIN:DAYLIGHT
TZOFFSETFROM:+0100
TZOFFSETTO:+0200
TZNAME:CEST
DTSTART:20240331T010000
END:DAYLIGHT
BEGIN:STANDARD
TZOFFSETFROM:+0200
TZOFFSETTO:+0100
TZNAME:CET
DTSTART:20241027T010000
END:STANDARD
END:VTIMEZONE
BEGIN:VEVENT
DTSTART;TZID=Europe/Rome:20231027T100000
DTEND;TZID=Europe/Rome:20231027T200000
DTSTAMP:20260423T101252
CREATED:20231027T055856Z
LAST-MODIFIED:20231027T055856Z
UID:17848-1698400800-1698436800@www.agippsa.it
SUMMARY:Il viaggio dell'adolescente. Venti anni di ASSIA In ricordo della Dott.ssa Titti Pavone
DESCRIPTION:“Il viaggio è\, nella sua essenza\, un movimento da un punto all’altro. Geografico\, di norma\, ma anche interiore. Esistono perciò modi di viaggiare innumerevoli\, quanti i piedi che portano in giro e gli occhi che guardano il mondo.” ( A. Politano) \nL’adolescenza è come un viaggio\, porta con sé elementi del passato\, per incontrarne di nuovi. Li mischia\, li trasforma per raggiungere le mete della vita. Con i relatori proveremo a percorrere le strade del viaggio adolescenziale. \nlink iscrizione: https://dbd54910.sibforms.com/serve/MUIFABZx9gg2YPSTmxRN7K8JZ6XK8qkVfbW9CEe77rzpjCkfOTjL9WG29lGMRmD89uvcWsAY_3H6QMMXdQpswS0ZPEG35RiQ5gSV0o6ZjUOz3jYrHee7HLt9ZIcHAqVhPdC7wBa8y-vzA5hp_muOpOjo_egCrxuAV_HQSYfYxjQq6OZwvdHf5F6eq_gBfmtP0RlzXX9OKM0jyr9B \nLink brochure: https://www.assiasicilia.org/wp-content/uploads/brochure_2023_definitiva.pdf \n 
URL:https://www.agippsa.it/evento/il-viaggio-delladolescente-venti-anni-di-assia-in-ricordo-della-dott-ssa-titti-pavone/
LOCATION:auditorium camplus\, Via Monsignor Ventimiglia\, 184\, Catania
CATEGORIES:Convegni e seminari,Eventi
ATTACH;FMTTYPE=image/jpeg:https://www.agippsa.it/wp-content/uploads/2023/10/Alice-Assia-20-anni-Creativita-01-1170x780-1.jpg
ORGANIZER;CN="ASSIA":MAILTO:info@assiasicilia.it
END:VEVENT
END:VCALENDAR